BEGIN:VCALENDAR
VERSION:2.0
PRODID:-//Humboldt Senior Resource Center - ECPv6.15.13.1//NONSGML v1.0//EN
CALSCALE:GREGORIAN
METHOD:PUBLISH
X-ORIGINAL-URL:https://humsenior.org
X-WR-CALDESC:Events for Humboldt Senior Resource Center
REFRESH-INTERVAL;VALUE=DURATION:PT1H
X-Robots-Tag:noindex
X-PUBLISHED-TTL:PT1H
BEGIN:VTIMEZONE
TZID:America/Los_Angeles
BEGIN:DAYLIGHT
TZOFFSETFROM:-0800
TZOFFSETTO:-0700
TZNAME:PDT
DTSTART:20250309T100000
END:DAYLIGHT
BEGIN:STANDARD
TZOFFSETFROM:-0700
TZOFFSETTO:-0800
TZNAME:PST
DTSTART:20251102T090000
END:STANDARD
BEGIN:DAYLIGHT
TZOFFSETFROM:-0800
TZOFFSETTO:-0700
TZNAME:PDT
DTSTART:20260308T100000
END:DAYLIGHT
BEGIN:STANDARD
TZOFFSETFROM:-0700
TZOFFSETTO:-0800
TZNAME:PST
DTSTART:20261101T090000
END:STANDARD
BEGIN:DAYLIGHT
TZOFFSETFROM:-0800
TZOFFSETTO:-0700
TZNAME:PDT
DTSTART:20270314T100000
END:DAYLIGHT
BEGIN:STANDARD
TZOFFSETFROM:-0700
TZOFFSETTO:-0800
TZNAME:PST
DTSTART:20271107T090000
END:STANDARD
END:VTIMEZONE
BEGIN:VEVENT
DTSTART;TZID=America/Los_Angeles:20260203T130000
DTEND;TZID=America/Los_Angeles:20260203T153000
DTSTAMP:20260421T083254
CREATED:20240425T192818Z
LAST-MODIFIED:20240425T192818Z
UID:40823-1770123600-1770132600@humsenior.org
SUMMARY:Mahjong
DESCRIPTION:
URL:https://humsenior.org/calendar/mahjong/2026-02-03/
LOCATION:Eureka\, 1910 California Street\, Eureka\, CA\, 95501
END:VEVENT
BEGIN:VEVENT
DTSTART;TZID=America/Los_Angeles:20260204T130000
DTEND;TZID=America/Los_Angeles:20260204T150000
DTSTAMP:20260421T083254
CREATED:20250225T224339Z
LAST-MODIFIED:20250225T224339Z
UID:22034-1770210000-1770217200@humsenior.org
SUMMARY:Cribbage
DESCRIPTION:Join friends for cribbage every Wednesday afternoon.
URL:https://humsenior.org/calendar/cribbage-3/2026-02-04/
LOCATION:CA
END:VEVENT
BEGIN:VEVENT
DTSTART;TZID=America/Los_Angeles:20260206T123000
DTEND;TZID=America/Los_Angeles:20260206T133000
DTSTAMP:20260421T083254
CREATED:20250225T224931Z
LAST-MODIFIED:20250225T224931Z
UID:22140-1770381000-1770384600@humsenior.org
SUMMARY:Falun Dafa Yoga (bring mat)
DESCRIPTION:Join friends for Falun Dafa Yoga. Please your own yoga mat if possible.
URL:https://humsenior.org/calendar/falun-dafa-yoga-bring-mat/2026-02-06/
LOCATION:Eureka\, 1910 California Street\, Eureka\, CA\, 95501
END:VEVENT
BEGIN:VEVENT
DTSTART;TZID=America/Los_Angeles:20260210T130000
DTEND;TZID=America/Los_Angeles:20260210T153000
DTSTAMP:20260421T083254
CREATED:20240425T192818Z
LAST-MODIFIED:20240425T192818Z
UID:40824-1770728400-1770737400@humsenior.org
SUMMARY:Mahjong
DESCRIPTION:
URL:https://humsenior.org/calendar/mahjong/2026-02-10/
LOCATION:Eureka\, 1910 California Street\, Eureka\, CA\, 95501
END:VEVENT
BEGIN:VEVENT
DTSTART;TZID=America/Los_Angeles:20260211T130000
DTEND;TZID=America/Los_Angeles:20260211T150000
DTSTAMP:20260421T083254
CREATED:20250225T224339Z
LAST-MODIFIED:20250225T224339Z
UID:22035-1770814800-1770822000@humsenior.org
SUMMARY:Cribbage
DESCRIPTION:Join friends for cribbage every Wednesday afternoon.
URL:https://humsenior.org/calendar/cribbage-3/2026-02-11/
LOCATION:CA
END:VEVENT
BEGIN:VEVENT
DTSTART;TZID=America/Los_Angeles:20260213T123000
DTEND;TZID=America/Los_Angeles:20260213T133000
DTSTAMP:20260421T083254
CREATED:20250225T224931Z
LAST-MODIFIED:20250225T224931Z
UID:22141-1770985800-1770989400@humsenior.org
SUMMARY:Falun Dafa Yoga (bring mat)
DESCRIPTION:Join friends for Falun Dafa Yoga. Please your own yoga mat if possible.
URL:https://humsenior.org/calendar/falun-dafa-yoga-bring-mat/2026-02-13/
LOCATION:Eureka\, 1910 California Street\, Eureka\, CA\, 95501
END:VEVENT
BEGIN:VEVENT
DTSTART;TZID=America/Los_Angeles:20260217T130000
DTEND;TZID=America/Los_Angeles:20260217T153000
DTSTAMP:20260421T083254
CREATED:20240425T192818Z
LAST-MODIFIED:20240425T192818Z
UID:40825-1771333200-1771342200@humsenior.org
SUMMARY:Mahjong
DESCRIPTION:
URL:https://humsenior.org/calendar/mahjong/2026-02-17/
LOCATION:Eureka\, 1910 California Street\, Eureka\, CA\, 95501
END:VEVENT
BEGIN:VEVENT
DTSTART;TZID=America/Los_Angeles:20260218T130000
DTEND;TZID=America/Los_Angeles:20260218T150000
DTSTAMP:20260421T083254
CREATED:20250225T224339Z
LAST-MODIFIED:20250225T224339Z
UID:22036-1771419600-1771426800@humsenior.org
SUMMARY:Cribbage
DESCRIPTION:Join friends for cribbage every Wednesday afternoon.
URL:https://humsenior.org/calendar/cribbage-3/2026-02-18/
LOCATION:CA
END:VEVENT
BEGIN:VEVENT
DTSTART;TZID=America/Los_Angeles:20260220T123000
DTEND;TZID=America/Los_Angeles:20260220T133000
DTSTAMP:20260421T083254
CREATED:20250225T224931Z
LAST-MODIFIED:20250225T224931Z
UID:22142-1771590600-1771594200@humsenior.org
SUMMARY:Falun Dafa Yoga (bring mat)
DESCRIPTION:Join friends for Falun Dafa Yoga. Please your own yoga mat if possible.
URL:https://humsenior.org/calendar/falun-dafa-yoga-bring-mat/2026-02-20/
LOCATION:Eureka\, 1910 California Street\, Eureka\, CA\, 95501
END:VEVENT
BEGIN:VEVENT
DTSTART;TZID=America/Los_Angeles:20260224T130000
DTEND;TZID=America/Los_Angeles:20260224T153000
DTSTAMP:20260421T083254
CREATED:20240425T192818Z
LAST-MODIFIED:20240425T192818Z
UID:40826-1771938000-1771947000@humsenior.org
SUMMARY:Mahjong
DESCRIPTION:
URL:https://humsenior.org/calendar/mahjong/2026-02-24/
LOCATION:Eureka\, 1910 California Street\, Eureka\, CA\, 95501
END:VEVENT
BEGIN:VEVENT
DTSTART;TZID=America/Los_Angeles:20260225T130000
DTEND;TZID=America/Los_Angeles:20260225T150000
DTSTAMP:20260421T083254
CREATED:20250225T224339Z
LAST-MODIFIED:20250225T224339Z
UID:22037-1772024400-1772031600@humsenior.org
SUMMARY:Cribbage
DESCRIPTION:Join friends for cribbage every Wednesday afternoon.
URL:https://humsenior.org/calendar/cribbage-3/2026-02-25/
LOCATION:CA
END:VEVENT
BEGIN:VEVENT
DTSTART;TZID=America/Los_Angeles:20260227T123000
DTEND;TZID=America/Los_Angeles:20260227T133000
DTSTAMP:20260421T083254
CREATED:20250225T224931Z
LAST-MODIFIED:20250225T224931Z
UID:22143-1772195400-1772199000@humsenior.org
SUMMARY:Falun Dafa Yoga (bring mat)
DESCRIPTION:Join friends for Falun Dafa Yoga. Please your own yoga mat if possible.
URL:https://humsenior.org/calendar/falun-dafa-yoga-bring-mat/2026-02-27/
LOCATION:Eureka\, 1910 California Street\, Eureka\, CA\, 95501
END:VEVENT
END:VCALENDAR